BEGIN:VCALENDAR
VERSION:2.0
PRODID:-//Notre Dame de la mer - ECPv5.10.1//NONSGML v1.0//EN
CALSCALE:GREGORIAN
METHOD:PUBLISH
X-WR-CALNAME:Notre Dame de la mer
X-ORIGINAL-URL:https://notredamedelamer.com
X-WR-CALDESC:évènements pour Notre Dame de la mer
BEGIN:VTIMEZONE
TZID:Europe/Paris
BEGIN:DAYLIGHT
TZOFFSETFROM:+0100
TZOFFSETTO:+0200
TZNAME:CEST
DTSTART:20210328T010000
END:DAYLIGHT
BEGIN:STANDARD
TZOFFSETFROM:+0200
TZOFFSETTO:+0100
TZNAME:CET
DTSTART:20211031T010000
END:STANDARD
END:VTIMEZONE
BEGIN:VEVENT
DTSTART;TZID=Europe/Paris:20210101T183000
DTEND;TZID=Europe/Paris:20210101T193000
DTSTAMP:20260426T033039
CREATED:20201222T065836Z
LAST-MODIFIED:20201222T065836Z
UID:1631-1609525800-1609529400@notredamedelamer.com
SUMMARY:Messe pour présenter à Dieu la nouvelle année 2021
DESCRIPTION:J’aime ça :J’aime chargement…
URL:https://notredamedelamer.com/event/messe-pour-presenter-a-dieu-la-nouvelle-annee-2021/
CATEGORIES:Messe
END:VEVENT
BEGIN:VEVENT
DTSTART;TZID=Europe/Paris:20210104T180000
DTEND;TZID=Europe/Paris:20210104T183000
DTSTAMP:20260426T033039
CREATED:20210104T075005Z
LAST-MODIFIED:20210104T075125Z
UID:1642-1609783200-1609785000@notredamedelamer.com
SUMMARY:Chapelet
DESCRIPTION:J’aime ça :J’aime chargement…
URL:https://notredamedelamer.com/event/chapelet/
LOCATION:Église Notre-Dame de la Mer\, 285 Avenue Fernand Léger\, La Seyne-sur-Mer\, 83500\, France
CATEGORIES:Chapelet
END:VEVENT
BEGIN:VEVENT
DTSTART;TZID=Europe/Paris:20210109T183000
DTEND;TZID=Europe/Paris:20210109T193000
DTSTAMP:20260426T033039
CREATED:20210104T075452Z
LAST-MODIFIED:20210104T075452Z
UID:1644-1610217000-1610220600@notredamedelamer.com
SUMMARY:Messe anticipée
DESCRIPTION:J’aime ça :J’aime chargement…
URL:https://notredamedelamer.com/event/messe-anticipee/
LOCATION:Église Notre-Dame de la Mer\, 285 Avenue Fernand Léger\, La Seyne-sur-Mer\, 83500\, France
CATEGORIES:Messe
END:VEVENT
BEGIN:VEVENT
DTSTART;TZID=Europe/Paris:20210110T080000
DTEND;TZID=Europe/Paris:20210110T090000
DTSTAMP:20260426T033039
CREATED:20210104T090728Z
LAST-MODIFIED:20210104T090728Z
UID:1677-1610265600-1610269200@notredamedelamer.com
SUMMARY:Messe
DESCRIPTION:J’aime ça :J’aime chargement…
URL:https://notredamedelamer.com/event/messe-8/
LOCATION:Église Notre-Dame de la Mer\, 285 Avenue Fernand Léger\, La Seyne-sur-Mer\, 83500\, France
CATEGORIES:Messe
END:VEVENT
BEGIN:VEVENT
DTSTART;TZID=Europe/Paris:20210110T103000
DTEND;TZID=Europe/Paris:20210110T113000
DTSTAMP:20260426T033039
CREATED:20210104T075534Z
LAST-MODIFIED:20210104T075534Z
UID:1646-1610274600-1610278200@notredamedelamer.com
SUMMARY:Messe
DESCRIPTION:J’aime ça :J’aime chargement…
URL:https://notredamedelamer.com/event/messe/
LOCATION:Église Notre-Dame de la Mer\, 285 Avenue Fernand Léger\, La Seyne-sur-Mer\, 83500\, France
CATEGORIES:Messe
END:VEVENT
BEGIN:VEVENT
DTSTART;TZID=Europe/Paris:20210116T183000
DTEND;TZID=Europe/Paris:20210116T193000
DTSTAMP:20260426T033039
CREATED:20210104T075620Z
LAST-MODIFIED:20210104T075620Z
UID:1648-1610821800-1610825400@notredamedelamer.com
SUMMARY:Messe anticipée
DESCRIPTION:J’aime ça :J’aime chargement…
URL:https://notredamedelamer.com/event/messe-anticipee-2/
LOCATION:Église Notre-Dame de la Mer\, 285 Avenue Fernand Léger\, La Seyne-sur-Mer\, 83500\, France
CATEGORIES:Messe
END:VEVENT
BEGIN:VEVENT
DTSTART;TZID=Europe/Paris:20210117T080000
DTEND;TZID=Europe/Paris:20210117T090000
DTSTAMP:20260426T033039
CREATED:20210104T090430Z
LAST-MODIFIED:20210104T090536Z
UID:1675-1610870400-1610874000@notredamedelamer.com
SUMMARY:Messe
DESCRIPTION:J’aime ça :J’aime chargement…
URL:https://notredamedelamer.com/event/messe-7/
LOCATION:Église Notre-Dame de la Mer\, 285 Avenue Fernand Léger\, La Seyne-sur-Mer\, 83500\, France
CATEGORIES:Messe
END:VEVENT
BEGIN:VEVENT
DTSTART;TZID=Europe/Paris:20210117T103000
DTEND;TZID=Europe/Paris:20210117T113000
DTSTAMP:20260426T033039
CREATED:20210104T075647Z
LAST-MODIFIED:20210104T075850Z
UID:1650-1610879400-1610883000@notredamedelamer.com
SUMMARY:Messe des familles
DESCRIPTION:J’aime ça :J’aime chargement…
URL:https://notredamedelamer.com/event/messe-2/
LOCATION:Église Notre-Dame de la Mer\, 285 Avenue Fernand Léger\, La Seyne-sur-Mer\, 83500\, France
CATEGORIES:Messe
END:VEVENT
BEGIN:VEVENT
DTSTART;TZID=Europe/Paris:20210123T183000
DTEND;TZID=Europe/Paris:20210123T193000
DTSTAMP:20260426T033039
CREATED:20210104T075707Z
LAST-MODIFIED:20210104T075707Z
UID:1652-1611426600-1611430200@notredamedelamer.com
SUMMARY:Messe anticipée
DESCRIPTION:J’aime ça :J’aime chargement…
URL:https://notredamedelamer.com/event/messe-anticipee-3/
LOCATION:Église Notre-Dame de la Mer\, 285 Avenue Fernand Léger\, La Seyne-sur-Mer\, 83500\, France
CATEGORIES:Messe
END:VEVENT
BEGIN:VEVENT
DTSTART;TZID=Europe/Paris:20210124T080000
DTEND;TZID=Europe/Paris:20210124T090000
DTSTAMP:20260426T033039
CREATED:20210104T090401Z
LAST-MODIFIED:20210104T090627Z
UID:1673-1611475200-1611478800@notredamedelamer.com
SUMMARY:Messe
DESCRIPTION:J’aime ça :J’aime chargement…
URL:https://notredamedelamer.com/event/messe-6/
LOCATION:Église Notre-Dame de la Mer\, 285 Avenue Fernand Léger\, La Seyne-sur-Mer\, 83500\, France
CATEGORIES:Messe
END:VEVENT
BEGIN:VEVENT
DTSTART;TZID=Europe/Paris:20210124T103000
DTEND;TZID=Europe/Paris:20210124T113000
DTSTAMP:20260426T033039
CREATED:20210104T075731Z
LAST-MODIFIED:20210104T075731Z
UID:1654-1611484200-1611487800@notredamedelamer.com
SUMMARY:Messe
DESCRIPTION:J’aime ça :J’aime chargement…
URL:https://notredamedelamer.com/event/messe-3/
LOCATION:Église Notre-Dame de la Mer\, 285 Avenue Fernand Léger\, La Seyne-sur-Mer\, 83500\, France
CATEGORIES:Messe
END:VEVENT
BEGIN:VEVENT
DTSTART;TZID=Europe/Paris:20210130T183000
DTEND;TZID=Europe/Paris:20210130T193000
DTSTAMP:20260426T033039
CREATED:20210104T075755Z
LAST-MODIFIED:20210104T075755Z
UID:1656-1612031400-1612035000@notredamedelamer.com
SUMMARY:Messe anticipée
DESCRIPTION:J’aime ça :J’aime chargement…
URL:https://notredamedelamer.com/event/messe-anticipee-4/
LOCATION:Église Notre-Dame de la Mer\, 285 Avenue Fernand Léger\, La Seyne-sur-Mer\, 83500\, France
CATEGORIES:Messe
END:VEVENT
BEGIN:VEVENT
DTSTART;TZID=Europe/Paris:20210131T080000
DTEND;TZID=Europe/Paris:20210131T090000
DTSTAMP:20260426T033039
CREATED:20210104T090332Z
LAST-MODIFIED:20210104T090332Z
UID:1671-1612080000-1612083600@notredamedelamer.com
SUMMARY:Messe
DESCRIPTION:J’aime ça :J’aime chargement…
URL:https://notredamedelamer.com/event/messe-5/
LOCATION:Église Notre-Dame de la Mer\, 285 Avenue Fernand Léger\, La Seyne-sur-Mer\, 83500\, France
CATEGORIES:Messe
END:VEVENT
BEGIN:VEVENT
DTSTART;TZID=Europe/Paris:20210131T103000
DTEND;TZID=Europe/Paris:20210131T113000
DTSTAMP:20260426T033039
CREATED:20210104T075819Z
LAST-MODIFIED:20210104T075819Z
UID:1658-1612089000-1612092600@notredamedelamer.com
SUMMARY:Messe
DESCRIPTION:J’aime ça :J’aime chargement…
URL:https://notredamedelamer.com/event/messe-4/
LOCATION:Église Notre-Dame de la Mer\, 285 Avenue Fernand Léger\, La Seyne-sur-Mer\, 83500\, France
CATEGORIES:Messe
END:VEVENT
END:VCALENDAR